BEGIN:VCALENDAR
VERSION:2.0
PRODID:-//Iina Lempinen - ECPv6.2.4//NONSGML v1.0//EN
CALSCALE:GREGORIAN
METHOD:PUBLISH
X-WR-CALNAME:Iina Lempinen
X-ORIGINAL-URL:https://valmiina.fi
X-WR-CALDESC:Tapahtumat Iina Lempinen
REFRESH-INTERVAL;VALUE=DURATION:PT1H
X-Robots-Tag:noindex
X-PUBLISHED-TTL:PT1H
BEGIN:VTIMEZONE
TZID:Europe/Helsinki
BEGIN:DAYLIGHT
TZOFFSETFROM:+0200
TZOFFSETTO:+0300
TZNAME:EEST
DTSTART:20180325T010000
END:DAYLIGHT
BEGIN:STANDARD
TZOFFSETFROM:+0300
TZOFFSETTO:+0200
TZNAME:EET
DTSTART:20181028T010000
END:STANDARD
END:VTIMEZONE
BEGIN:VEVENT
DTSTART;TZID=Europe/Helsinki:20181009T090000
DTEND;TZID=Europe/Helsinki:20181009T160000
DTSTAMP:20260424T092507
CREATED:20180524T092650Z
LAST-MODIFIED:20190905T120845Z
UID:2314-1539075600-1539100800@valmiina.fi
SUMMARY:Vastuunalaisen johtajan ajankohtaispäivä 2018 "Viisi vinkkiä ajanhallintaan"
DESCRIPTION:Lääketietokeskus \nVastuunalaisen johtajan ajankohtaispäivä 2018 \n\n\n\nTi 09.10.2018 kello 09:00-16:00\n\n\n\n\n\nLeonardo da Vinci -auditorio\, Itämerenkatu 11–13\, HELSINKI\, 00101\n\n\n\nLisätiedot ja ilmoittautuminen:\nhttps://www.laaketietokeskus.fi/koulutus/vastuunalaisen-johtajan-ajankohtaispaiva-2018
URL:https://valmiina.fi/tapahtuma/vastuunalaisen-johtajan-ajankohtaispaiva-2018-viisi-vinkkia-ajanhallintaan/
END:VEVENT
END:VCALENDAR