BEGIN:VCALENDAR
VERSION:2.0
PRODID:-//Iina Lempinen - ECPv6.2.4//NONSGML v1.0//EN
CALSCALE:GREGORIAN
METHOD:PUBLISH
X-ORIGINAL-URL:https://valmiina.fi
X-WR-CALDESC:Tapahtumat Iina Lempinen
REFRESH-INTERVAL;VALUE=DURATION:PT1H
X-Robots-Tag:noindex
X-PUBLISHED-TTL:PT1H
BEGIN:VTIMEZONE
TZID:Europe/Helsinki
BEGIN:DAYLIGHT
TZOFFSETFROM:+0200
TZOFFSETTO:+0300
TZNAME:EEST
DTSTART:20180325T010000
END:DAYLIGHT
BEGIN:STANDARD
TZOFFSETFROM:+0300
TZOFFSETTO:+0200
TZNAME:EET
DTSTART:20181028T010000
END:STANDARD
END:VTIMEZONE
BEGIN:VEVENT
DTSTART;TZID=Europe/Helsinki:20180928T083000
DTEND;TZID=Europe/Helsinki:20180928T160000
DTSTAMP:20260424T092635
CREATED:20180829T070124Z
LAST-MODIFIED:20181002T083341Z
UID:2914-1538123400-1538150400@valmiina.fi
SUMMARY:Tuloksellinen ja tavoitteellinen sihteerityö
DESCRIPTION:Tuloksellinen ja tavotteellinen sihteerityö\nTapahtuman tiedot \nAika pe 28.9. klo 8.30-16.00 \nPaikka: Tampere\, Sokos Hotel Ilves\, Hatanpään Valtatie 1 \nLue lisää tapahtumasta; \nhttp://www.aluepro.fi/aluekoulutus/tuloksellinen-ja-tavotteellinen-sihteerityo-28-9-2018 \n 
URL:https://valmiina.fi/tapahtuma/tuloksellinen-ja-tavoitteellinen-sihteerityo-2/
LOCATION:Sokos Hotel Ilves Tampere\, Hatanpään Valtatie 1\, Tampere
END:VEVENT
END:VCALENDAR