BEGIN:VCALENDAR
VERSION:2.0
PRODID:-//Iina Lempinen - ECPv6.2.4//NONSGML v1.0//EN
CALSCALE:GREGORIAN
METHOD:PUBLISH
X-ORIGINAL-URL:https://valmiina.fi
X-WR-CALDESC:Tapahtumat Iina Lempinen
REFRESH-INTERVAL;VALUE=DURATION:PT1H
X-Robots-Tag:noindex
X-PUBLISHED-TTL:PT1H
BEGIN:VTIMEZONE
TZID:Europe/Helsinki
BEGIN:DAYLIGHT
TZOFFSETFROM:+0200
TZOFFSETTO:+0300
TZNAME:EEST
DTSTART:20180325T010000
END:DAYLIGHT
BEGIN:STANDARD
TZOFFSETFROM:+0300
TZOFFSETTO:+0200
TZNAME:EET
DTSTART:20181028T010000
END:STANDARD
BEGIN:DAYLIGHT
TZOFFSETFROM:+0200
TZOFFSETTO:+0300
TZNAME:EEST
DTSTART:20190331T010000
END:DAYLIGHT
BEGIN:STANDARD
TZOFFSETFROM:+0300
TZOFFSETTO:+0200
TZNAME:EET
DTSTART:20191027T010000
END:STANDARD
BEGIN:DAYLIGHT
TZOFFSETFROM:+0200
TZOFFSETTO:+0300
TZNAME:EEST
DTSTART:20200329T010000
END:DAYLIGHT
BEGIN:STANDARD
TZOFFSETFROM:+0300
TZOFFSETTO:+0200
TZNAME:EET
DTSTART:20201025T010000
END:STANDARD
TZID:UTC
BEGIN:STANDARD
TZOFFSETFROM:+0000
TZOFFSETTO:+0000
TZNAME:UTC
DTSTART:20160101T000000
END:STANDARD
END:VTIMEZONE
BEGIN:VEVENT
DTSTART;TZID=Europe/Helsinki:20200930T090000
DTEND;TZID=Europe/Helsinki:20200930T160000
DTSTAMP:20260420T114141
CREATED:20200825T170331Z
LAST-MODIFIED:20200825T170949Z
UID:2280-1601456400-1601481600@valmiina.fi
SUMMARY:Tuloksellinen ja tavoitteellinen sihteerityö 30.9.2020
DESCRIPTION:Tuloksellinen ja tavoitteellinen sihteerityö\nViestintä ja tiedonhallinta 30.09.2020 09:00 \nTapahtuman tiedot \n\n\n\nAika\n30.09.2020 09:00 – 30.09.2020 16:00\n\n\nPaikka\nVerkkokoulutus\n\n\n\n 
URL:https://valmiina.fi/tapahtuma/https-www-aluepro-fi-aluekoulutus-tuloksellinen-ja-tavoitteellinen-sihteerityo-30-9-2020/
END:VEVENT
BEGIN:VEVENT
DTSTART;TZID=Europe/Helsinki:20190409T083000
DTEND;TZID=Europe/Helsinki:20190409T160000
DTSTAMP:20260420T114141
CREATED:20181207T113144Z
LAST-MODIFIED:20190905T120327Z
UID:2968-1554798600-1554825600@valmiina.fi
SUMMARY:Tuloksellinen ja tavoitteellinen sihteerityö Kuopio 9.4.2019
DESCRIPTION:Tuloksellinen ja tavoitteellinen sihteerityö\nValmennus sisältää alustuksia\, keskusteluja sekä kirjallisia yksilöharjoituksia. Valmennuksen sisältö on erittäin käytännönläheinen ja ratkaisukeskeinen. Valmennuspäivä on innostava\, kannustava\, oivalluttava sekä osallistava. \nLisätiedot ja ilmoittautuminen: \nAluepro \n \n 
URL:https://valmiina.fi/tapahtuma/tuloksellinen-ja-tavoitteellinen-sihteerityo-kuopio-22-1-2019/
LOCATION:Sokos Hotel Puijonsarvi\, Kuopio
END:VEVENT
BEGIN:VEVENT
DTSTART;TZID=Europe/Helsinki:20190404T140000
DTEND;TZID=Europe/Helsinki:20190404T170000
DTSTAMP:20260420T114141
CREATED:20190219T121106Z
LAST-MODIFIED:20190905T120511Z
UID:3007-1554386400-1554397200@valmiina.fi
SUMMARY:Työpaikan yhdeksän hyvää ja erilaista tyyppiä - Enneagrammi-persoonallisuustyypit
DESCRIPTION:Työpaikan yhdeksän hyvää ja erilaista tyyppiä – Enneagrammi-persoonallisuustyypit \n  \nHelsingin seudun kauppakamari Koulusihteerit 4.4.2019 Hotelli Presidentti \nklo 14.15-17.00
URL:https://valmiina.fi/tapahtuma/tyopaikan-yhdeksan-hyvaa-ja-erilaista-tyyppia-enneagrammi-persoonallisuustyypit/
LOCATION:Sokos Hotel Presidentti
END:VEVENT
BEGIN:VEVENT
DTSTART;TZID=Europe/Helsinki:20190401T083000
DTEND;TZID=Europe/Helsinki:20190401T120000
DTSTAMP:20260420T114141
CREATED:20190219T122352Z
LAST-MODIFIED:20190905T120659Z
UID:3016-1554107400-1554120000@valmiina.fi
SUMMARY:Tehokas ajankäyttö - vähemmän stressiä\, enemmän tuloksia
DESCRIPTION:Tehokas ajankäyttö – vähemmän stressiä\, enemmän tuloksia – valmennus ma 1.4.2019 klo 9.-12.00 \nMyynnin ja markkinoinnin ammattilaiset MMA ry \nHelsingissä Akava-talo (kahvit klo 8.30 alkaen) \nLisätiedot ja ilmoittautumiset: \nMMA Tehokas ajankäyttö – vähemmän stressiä\, enemmän tuloksia
URL:https://valmiina.fi/tapahtuma/tehokas-ajankaytto-vahemman-stressia-enemman-tuloksia-3/
LOCATION:Akava-talo Helsinki\, Helsinki
END:VEVENT
BEGIN:VEVENT
DTSTART;TZID=Europe/Helsinki:20190319T090000
DTEND;TZID=Europe/Helsinki:20190319T120000
DTSTAMP:20260420T114141
CREATED:20190219T121608Z
LAST-MODIFIED:20190905T120747Z
UID:3011-1552986000-1552996800@valmiina.fi
SUMMARY:Tehokas ajankäyttö - vähemmän stressiä\, enemmän tuloksia
DESCRIPTION:TEHOKAS AJANKÄYTTÖ – VÄHEMMÄN STRESSIÄ\, ENEMMÄN TULOKSIA – VALMENNUSPÄIVÄ \n19.3.2019 KLO 9.-12.00 Kotka Datariina \nLue lisää Kymenlaakson kauppakamarin koulutukset-sivulta \n  \n 
URL:https://valmiina.fi/tapahtuma/tehokas-ajankaytto-vahemman-stressia-enemman-tuloksia-2/
LOCATION:Datariina\, Heikinkatu 7\, Kotka
END:VEVENT
BEGIN:VEVENT
DTSTART;TZID=Europe/Helsinki:20181009T090000
DTEND;TZID=Europe/Helsinki:20181009T160000
DTSTAMP:20260420T114141
CREATED:20180524T092650Z
LAST-MODIFIED:20190905T120845Z
UID:2314-1539075600-1539100800@valmiina.fi
SUMMARY:Vastuunalaisen johtajan ajankohtaispäivä 2018 "Viisi vinkkiä ajanhallintaan"
DESCRIPTION:Lääketietokeskus \nVastuunalaisen johtajan ajankohtaispäivä 2018 \n\n\n\nTi 09.10.2018 kello 09:00-16:00\n\n\n\n\n\nLeonardo da Vinci -auditorio\, Itämerenkatu 11–13\, HELSINKI\, 00101\n\n\n\nLisätiedot ja ilmoittautuminen:\nhttps://www.laaketietokeskus.fi/koulutus/vastuunalaisen-johtajan-ajankohtaispaiva-2018
URL:https://valmiina.fi/tapahtuma/vastuunalaisen-johtajan-ajankohtaispaiva-2018-viisi-vinkkia-ajanhallintaan/
END:VEVENT
BEGIN:VEVENT
DTSTART;TZID=Europe/Helsinki:20181002T083000
DTEND;TZID=Europe/Helsinki:20181002T160000
DTSTAMP:20260420T114141
CREATED:20180829T071557Z
LAST-MODIFIED:20181002T083248Z
UID:2922-1538469000-1538496000@valmiina.fi
SUMMARY:Tuloksellinen ja tavotteellinen sihteerityö
DESCRIPTION:Tuloksellinen ja tavotteellinen sihteerityö\nTapahtuman tiedot \nAika ti 2.10.2018 klo 8.30-16.00 \nPaikka: Oulu Sokos Hotel Arina \nLue lisää tapahtumasta; \nhttp://www.aluepro.fi/aluekoulutus/tuloksellinen-ja-tavotteellinen-sihteerityo-2-10-2018 \n 
URL:https://valmiina.fi/tapahtuma/tuloksellinen-ja-tavotteellinen-sihteerityo/
LOCATION:Sokos Hotel Arina Oulu\, Oulu
END:VEVENT
BEGIN:VEVENT
DTSTART;TZID=Europe/Helsinki:20180928T083000
DTEND;TZID=Europe/Helsinki:20180928T160000
DTSTAMP:20260420T114141
CREATED:20180829T070124Z
LAST-MODIFIED:20181002T083341Z
UID:2914-1538123400-1538150400@valmiina.fi
SUMMARY:Tuloksellinen ja tavoitteellinen sihteerityö
DESCRIPTION:Tuloksellinen ja tavotteellinen sihteerityö\nTapahtuman tiedot \nAika pe 28.9. klo 8.30-16.00 \nPaikka: Tampere\, Sokos Hotel Ilves\, Hatanpään Valtatie 1 \nLue lisää tapahtumasta; \nhttp://www.aluepro.fi/aluekoulutus/tuloksellinen-ja-tavotteellinen-sihteerityo-28-9-2018 \n 
URL:https://valmiina.fi/tapahtuma/tuloksellinen-ja-tavoitteellinen-sihteerityo-2/
LOCATION:Sokos Hotel Ilves Tampere\, Hatanpään Valtatie 1\, Tampere
END:VEVENT
BEGIN:VEVENT
DTSTART;TZID=UTC:20180320T090000
DTEND;TZID=UTC:20180320T180000
DTSTAMP:20260420T114141
CREATED:20180314T114142Z
LAST-MODIFIED:20180417T093557Z
UID:2243-1521536400-1521568800@valmiina.fi
SUMMARY:Tuloksellinen ja tavoitteellinen sihteerityö
DESCRIPTION:http://www.aluepro.fi/aluekoulutus/tuloksellinen-ja-tavoiteellinen-sihteerityo-20-3-2018
URL:https://valmiina.fi/tapahtuma/tuloksellinen-ja-tavoitteellinen-sihteerityo/
LOCATION:Sokos Hotel Puijonsarvi\, Kuopio
END:VEVENT
BEGIN:VEVENT
DTSTART;TZID=UTC:20171123T130000
DTEND;TZID=UTC:20171123T160000
DTSTAMP:20260420T114141
CREATED:20171010T144301Z
LAST-MODIFIED:20180427T042847Z
UID:2064-1511442000-1511452800@valmiina.fi
SUMMARY:Tehokas ajankäyttö - vähemmän stressiä\, enemmän tuloksia\, HELSINKI
DESCRIPTION:Konkreettinen ja käytännönläheinen sekä oivalluttava ja osallistava valmennus\, jonka aikana opit johtamaan itseäsi kohti tuloksellista ajankäyttöä sekä lisäämään voimavarojasi. Valmennuksen aikana täytetään muutamia kirjallisia yksilötehtäviä\, jotka auttavat sinua viemään opit arkeesi ja elämääsi. \nLue lisää valmennuksen sisällöstä tästä. \nLämpimästi tervetuloa! \n 
URL:https://valmiina.fi/tapahtuma/tehokas-ajankaytto-vahemman-stressia-enemman-tuloksia/
LOCATION:Valmentamo\, Lounaisväylä 8A\, katutaso\, Helsinki\, Suomi
END:VEVENT
BEGIN:VEVENT
DTSTART;TZID=UTC:20171114T083000
DTEND;TZID=UTC:20171114T160000
DTSTAMP:20260420T114141
CREATED:20170707T085245Z
LAST-MODIFIED:20180427T042748Z
UID:1941-1510648200-1510675200@valmiina.fi
SUMMARY:Tehokas työajan käyttö ja suunnittelu\, KUOPIO
DESCRIPTION:Lue lisää valmennuksen sisällöstä oheisesta tiedostosta: \nTehokas työajan käyttö ja suunnittelu \n  \n 
URL:https://valmiina.fi/tapahtuma/tehokas-tyoajan-kaytto-ja-suunnittelu-2/
LOCATION:Sokos Hotel Puijonsarvi\, Kuopio
CATEGORIES:Valmennus
END:VEVENT
BEGIN:VEVENT
DTSTART;TZID=UTC:20171107T083000
DTEND;TZID=UTC:20171107T160000
DTSTAMP:20260420T114141
CREATED:20170707T091442Z
LAST-MODIFIED:20180427T042542Z
UID:1945-1510043400-1510070400@valmiina.fi
SUMMARY:Tehokas työajankäyttö ja suunnittelu\, OULU
DESCRIPTION:Lue lisää valmennuksen sisällöstä oheisesta tiedostosta: \nTehokas työajan käyttö ja suunnittelu \nIlmoittautumiset: \nwww.aluepro.fi/ilmoittaudu
URL:https://valmiina.fi/tapahtuma/tehokas-tyoajankaytto-ja-suunnittelu-oulu/
LOCATION:Hotelli Lasaretti\, Oulu
CATEGORIES:Valmennus
END:VEVENT
BEGIN:VEVENT
DTSTART;TZID=UTC:20170822T083000
DTEND;TZID=UTC:20170822T160000
DTSTAMP:20260420T114141
CREATED:20170707T084628Z
LAST-MODIFIED:20180427T040655Z
UID:1935-1503390600-1503417600@valmiina.fi
SUMMARY:Tehokas työajan käyttö ja suunnittelu\, HÄMEENLINNA
DESCRIPTION:Lue lisää valmennuksen sisällöstä oheisesta tiedostosta: \nTehokas työajan käyttö ja suunnittelu \n  \n 
URL:https://valmiina.fi/tapahtuma/tehokas-tyoajan-kaytto-ja-suunnittelu/
LOCATION:Sokos Hotel Vaakuna Hämeenlinna
CATEGORIES:Valmennus
END:VEVENT
BEGIN:VEVENT
DTSTART;VALUE=DATE:20170322
DTEND;VALUE=DATE:20170323
DTSTAMP:20260420T114141
CREATED:20161229T112118Z
LAST-MODIFIED:20180427T040505Z
UID:1412-1490140800-1490227199@valmiina.fi
SUMMARY:Työpaikan yhdeksän hyvää ja erilaista tyyppiä • enneagrammipersoonallisuustyypit
DESCRIPTION:Helsingin Kamari Oy \nPalkanlaskenta 2017 -laivaseminaari 22.–24.3.2017 \n22.3.2016 klo 14.05-16.30 \nTyöpaikan yhdeksän hyvää ja erilaista tyyppiä • enneagrammipersoonallisuustyypit \nKauppakamaritieto/Palkanlaskenta 2017 laivaseminaari
URL:https://valmiina.fi/tapahtuma/tyopaikan-yhdeksan-hyvaa/
LOCATION:Silja Symphony
CATEGORIES:Valmennus
END:VEVENT
BEGIN:VEVENT
DTSTART;TZID=UTC:20160928T083000
DTEND;TZID=UTC:20160928T160000
DTSTAMP:20260420T114141
CREATED:20160724T033441Z
LAST-MODIFIED:20160724T035743Z
UID:601-1475051400-1475078400@valmiina.fi
SUMMARY:Lisää tulosta työyhteisötaitoja ja ajankäyttöä kehittämällä!
DESCRIPTION:valmennuspäivä. Lapin kauppakamari\, Rovaniemi ke 28.9.2016 klo 8.30-16.00 Lisätiedot ja ilmoittautuminen Lapin kauppakamari/koulutukset
URL:https://valmiina.fi/tapahtuma/lisaa-tulosta-tyoyhteisotaitoja-ja-ajankayttoa-kehittamalla/
LOCATION:Sokos Hotel Vaakuna\, Koskikatu 4\, Rovaniemi\, 96200\, Suomi
CATEGORIES:Valmennus
END:VEVENT
END:VCALENDAR