BEGIN:VCALENDAR
VERSION:2.0
PRODID:-//Iina Lempinen - ECPv6.2.4//NONSGML v1.0//EN
CALSCALE:GREGORIAN
METHOD:PUBLISH
X-WR-CALNAME:Iina Lempinen
X-ORIGINAL-URL:https://valmiina.fi
X-WR-CALDESC:Tapahtumat Iina Lempinen
REFRESH-INTERVAL;VALUE=DURATION:PT1H
X-Robots-Tag:noindex
X-PUBLISHED-TTL:PT1H
BEGIN:VTIMEZONE
TZID:UTC
BEGIN:STANDARD
TZOFFSETFROM:+0000
TZOFFSETTO:+0000
TZNAME:UTC
DTSTART:20170101T000000
END:STANDARD
END:VTIMEZONE
BEGIN:VEVENT
DTSTART;TZID=UTC:20170822T083000
DTEND;TZID=UTC:20170822T160000
DTSTAMP:20260424T153501
CREATED:20170707T084628Z
LAST-MODIFIED:20180427T040655Z
UID:1935-1503390600-1503417600@valmiina.fi
SUMMARY:Tehokas työajan käyttö ja suunnittelu\, HÄMEENLINNA
DESCRIPTION:Lue lisää valmennuksen sisällöstä oheisesta tiedostosta: \nTehokas työajan käyttö ja suunnittelu \n  \n 
URL:https://valmiina.fi/tapahtuma/tehokas-tyoajan-kaytto-ja-suunnittelu/
LOCATION:Sokos Hotel Vaakuna Hämeenlinna
CATEGORIES:Valmennus
END:VEVENT
END:VCALENDAR